BEGIN:VCALENDAR
VERSION:2.0
PRODID:-//We Be Jammin Events - ECPv6.15.11//NONSGML v1.0//EN
CALSCALE:GREGORIAN
METHOD:PUBLISH
X-WR-CALNAME:We Be Jammin Events
X-ORIGINAL-URL:https://webejamminevents.com
X-WR-CALDESC:Events for We Be Jammin Events
REFRESH-INTERVAL;VALUE=DURATION:PT1H
X-Robots-Tag:noindex
X-PUBLISHED-TTL:PT1H
BEGIN:VTIMEZONE
TZID:America/New_York
BEGIN:DAYLIGHT
TZOFFSETFROM:-0500
TZOFFSETTO:-0400
TZNAME:EDT
DTSTART:20250309T070000
END:DAYLIGHT
BEGIN:STANDARD
TZOFFSETFROM:-0400
TZOFFSETTO:-0500
TZNAME:EST
DTSTART:20251102T060000
END:STANDARD
BEGIN:DAYLIGHT
TZOFFSETFROM:-0500
TZOFFSETTO:-0400
TZNAME:EDT
DTSTART:20260308T070000
END:DAYLIGHT
BEGIN:STANDARD
TZOFFSETFROM:-0400
TZOFFSETTO:-0500
TZNAME:EST
DTSTART:20261101T060000
END:STANDARD
BEGIN:DAYLIGHT
TZOFFSETFROM:-0500
TZOFFSETTO:-0400
TZNAME:EDT
DTSTART:20270314T070000
END:DAYLIGHT
BEGIN:STANDARD
TZOFFSETFROM:-0400
TZOFFSETTO:-0500
TZNAME:EST
DTSTART:20271107T060000
END:STANDARD
END:VTIMEZONE
BEGIN:VEVENT
DTSTART;TZID=America/New_York:20260222T110000
DTEND;TZID=America/New_York:20260503T160000
DTSTAMP:20260423T151851
CREATED:20251112T011223Z
LAST-MODIFIED:20260215T214446Z
UID:21186-1771758000-1777824000@webejamminevents.com
SUMMARY:The Winter Farmers Marketplace
DESCRIPTION:
URL:https://webejamminevents.com/event/the-winter-farmers-marketplace/
LOCATION:Warwick Mall\, 400 Bald Hill Rd\, Warwick\, RI\, 02886\, United States
CATEGORIES:WBJE
ATTACH;FMTTYPE=image/jpeg:https://webejamminevents.com/wp-content/uploads/2025/11/dumb.jpg
ORGANIZER;CN="Debbie Wood":MAILTO:webejamminevents@gmail.com
END:VEVENT
END:VCALENDAR